Package: gscreend Version: 1.18.0 Command: rm -rf gscreend.buildbin-libdir && mkdir gscreend.buildbin-libdir && /Users/biocbuild/BBS/utils/build-universal.sh gscreend_1.18.0.tar.gz /Library/Frameworks/R.framework/Resources/bin/R gscreend.buildbin-libdir StartedAt: 2024-10-17 16:19:15 -0400 (Thu, 17 Oct 2024) EndedAt: 2024-10-17 16:20:14 -0400 (Thu, 17 Oct 2024) EllapsedTime: 58.4 seconds RetCode: 0 Status: OK PackageFile: gscreend_1.18.0.tgz PackageFileSize: 3.169 MiB