Package: gscreend Version: 1.18.0 Command: /Library/Frameworks/R.framework/Resources/bin/R CMD build --keep-empty-dirs --no-resave-data gscreend StartedAt: 2024-10-16 19:48:50 -0400 (Wed, 16 Oct 2024) EndedAt: 2024-10-16 19:52:48 -0400 (Wed, 16 Oct 2024) EllapsedTime: 237.4 seconds RetCode: 0 Status: OK PackageFile: gscreend_1.18.0.tar.gz PackageFileSize: 3.113 MiB