Package: gscreend Version: 1.18.0 Command: /home/biocbuild/bbs-3.19-bioc/R/bin/R CMD INSTALL gscreend StartedAt: 2024-10-16 16:04:37 -0400 (Wed, 16 Oct 2024) EndedAt: 2024-10-16 16:04:58 -0400 (Wed, 16 Oct 2024) EllapsedTime: 21.1 seconds RetCode: 0 Status: OK