Package: gscreend Version: 1.18.0 Command: F:\biocbuild\bbs-3.19-bioc\R\bin\R.exe CMD INSTALL gscreend StartedAt: 2024-06-26 16:02:04 -0400 (Wed, 26 Jun 2024) EndedAt: 2024-06-26 16:02:36 -0400 (Wed, 26 Jun 2024) EllapsedTime: 32.0 seconds RetCode: 0 Status: OK