Package: gsean Version: 1.24.0 Command: chmod a+r gsean -R && E:\biocbuild\bbs-3.19-bioc\R\bin\R.exe CMD build --keep-empty-dirs --no-resave-data gsean StartedAt: 2024-10-16 19:35:40 -0400 (Wed, 16 Oct 2024) EndedAt: 2024-10-16 19:36:55 -0400 (Wed, 16 Oct 2024) EllapsedTime: 75.1 seconds RetCode: 0 Status: OK PackageFile: gsean_1.24.0.tar.gz PackageFileSize: 1.535 MiB