Package: gsean Version: 1.24.0 Command: E:\biocbuild\bbs-3.19-bioc\R\bin\R.exe CMD check --no-multiarch --install=check:gsean.install-out.txt --library=E:\biocbuild\bbs-3.19-bioc\R\library --no-vignettes --timings gsean_1.24.0.tar.gz StartedAt: 2024-10-17 02:10:17 -0400 (Thu, 17 Oct 2024) EndedAt: 2024-10-17 02:14:16 -0400 (Thu, 17 Oct 2024) EllapsedTime: 238.7 seconds RetCode: 0 Status: OK CheckDir: gsean.Rcheck Warnings: 0