Package: gtrellis Version: 1.36.0 Command: rm -rf gtrellis.buildbin-libdir && mkdir gtrellis.buildbin-libdir && /Users/biocbuild/BBS/utils/build-universal.sh gtrellis_1.36.0.tar.gz /Library/Frameworks/R.framework/Resources/bin/R gtrellis.buildbin-libdir StartedAt: 2024-06-10 00:21:34 -0400 (Mon, 10 Jun 2024) EndedAt: 2024-06-10 00:21:53 -0400 (Mon, 10 Jun 2024) EllapsedTime: 19.2 seconds RetCode: 0 Status: OK PackageFile: gtrellis_1.36.0.tgz PackageFileSize: 4.07 MiB