Package: gtrellis Version: 1.36.0 Command: /Library/Frameworks/R.framework/Resources/bin/R CMD build --keep-empty-dirs --no-resave-data gtrellis StartedAt: 2024-10-16 19:51:22 -0400 (Wed, 16 Oct 2024) EndedAt: 2024-10-16 19:58:26 -0400 (Wed, 16 Oct 2024) EllapsedTime: 423.4 seconds RetCode: 0 Status: OK PackageFile: gtrellis_1.36.0.tar.gz PackageFileSize: 4.021 MiB