Package: gtrellis Version: 1.36.0 Command: chmod a+r gtrellis -R && F:\biocbuild\bbs-3.19-bioc\R\bin\R.exe CMD build --keep-empty-dirs --no-resave-data gtrellis StartedAt: 2024-06-26 19:23:33 -0400 (Wed, 26 Jun 2024) EndedAt: 2024-06-26 19:27:32 -0400 (Wed, 26 Jun 2024) EllapsedTime: 239.5 seconds RetCode: 0 Status: OK PackageFile: gtrellis_1.36.0.tar.gz PackageFileSize: 1.409 MiB