Package: gtrellis Version: 1.36.0 Command: E:\biocbuild\bbs-3.19-bioc\R\bin\R.exe CMD INSTALL gtrellis StartedAt: 2024-10-16 16:11:26 -0400 (Wed, 16 Oct 2024) EndedAt: 2024-10-16 16:11:44 -0400 (Wed, 16 Oct 2024) EllapsedTime: 17.6 seconds RetCode: 0 Status: OK