Package: gwasurvivr Version: 1.22.0 Command: /home/biocbuild/R/R-beta-2024-04-15_r86425/bin/R CMD check --install=check:gwasurvivr.install-out.txt --library=/home/biocbuild/R/R-beta-2024-04-15_r86425/site-library --no-vignettes --timings gwasurvivr_1.22.0.tar.gz StartedAt: 2024-05-09 08:12:43 -0000 (Thu, 09 May 2024) EndedAt: 2024-05-09 08:21:15 -0000 (Thu, 09 May 2024) EllapsedTime: 511.8 seconds RetCode: 0 Status: OK CheckDir: gwasurvivr.Rcheck Warnings: 0