Package: gypsum Version: 1.0.1 Maintainer: Aaron Lun MaintainerEmail: infinite.monkeys.with.keyboards at gmail.com git_url: https://git.bioconductor.org/packages/gypsum git_branch: RELEASE_3_19 git_last_commit: 8e1c076 git_last_commit_date: 2024-05-07 11:52:19 -0400 (Tue, 07 May 2024)