Package: gypsum Version: 1.0.1 Command: rm -rf gypsum.buildbin-libdir && mkdir gypsum.buildbin-libdir && /Users/biocbuild/BBS/utils/build-universal.sh gypsum_1.0.1.tar.gz /Library/Frameworks/R.framework/Resources/bin/R gypsum.buildbin-libdir StartedAt: 2024-10-18 18:52:42 -0400 (Fri, 18 Oct 2024) EndedAt: 2024-10-18 18:52:49 -0400 (Fri, 18 Oct 2024) EllapsedTime: 6.9 seconds RetCode: 0 Status: OK PackageFile: gypsum_1.0.1.tgz PackageFileSize: 396.4 KiB