Package: gypsum Version: 1.0.1 Command: /Library/Frameworks/R.framework/Resources/bin/R CMD INSTALL gypsum StartedAt: 2024-10-16 15:50:57 -0400 (Wed, 16 Oct 2024) EndedAt: 2024-10-16 15:51:01 -0400 (Wed, 16 Oct 2024) EllapsedTime: 4.5 seconds RetCode: 0 Status: OK