Package: gypsum Version: 1.0.1 Command: rm -rf gypsum.buildbin-libdir && mkdir gypsum.buildbin-libdir && /Users/biocbuild/BBS/utils/build-universal.sh gypsum_1.0.1.tar.gz /Library/Frameworks/R.framework/Resources/bin/R gypsum.buildbin-libdir StartedAt: 2024-06-11 11:33:34 -0400 (Tue, 11 Jun 2024) EndedAt: 2024-06-11 11:33:44 -0400 (Tue, 11 Jun 2024) EllapsedTime: 10.0 seconds RetCode: 0 Status: OK PackageFile: gypsum_1.0.1.tgz PackageFileSize: 395.9 KiB