Package: gypsum Version: 1.0.1 Command: /Library/Frameworks/R.framework/Resources/bin/R CMD check --install=check:gypsum.install-out.txt --library=/Library/Frameworks/R.framework/Resources/library --no-vignettes --timings gypsum_1.0.1.tar.gz StartedAt: 2024-06-10 18:15:56 -0400 (Mon, 10 Jun 2024) EndedAt: 2024-06-10 18:17:29 -0400 (Mon, 10 Jun 2024) EllapsedTime: 92.4 seconds RetCode: 0 Status: OK CheckDir: gypsum.Rcheck Warnings: 0