Package: gypsum Version: 1.0.1 Command: /Library/Frameworks/R.framework/Resources/bin/R CMD INSTALL gypsum StartedAt: 2024-06-09 15:13:08 -0400 (Sun, 09 Jun 2024) EndedAt: 2024-06-09 15:13:14 -0400 (Sun, 09 Jun 2024) EllapsedTime: 6.0 seconds RetCode: 0 Status: OK