Package: gypsum Version: 1.0.1 Command: /Library/Frameworks/R.framework/Resources/bin/R CMD build --keep-empty-dirs --no-resave-data gypsum StartedAt: 2024-06-09 16:54:51 -0400 (Sun, 09 Jun 2024) EndedAt: 2024-06-09 16:55:03 -0400 (Sun, 09 Jun 2024) EllapsedTime: 12.4 seconds RetCode: 0 Status: OK PackageFile: gypsum_1.0.1.tar.gz PackageFileSize: 268 KiB