Package: gypsum Version: 1.0.1 Command: /Library/Frameworks/R.framework/Resources/bin/R CMD INSTALL gypsum StartedAt: 2024-06-09 15:07:23 -0400 (Sun, 09 Jun 2024) EndedAt: 2024-06-09 15:07:50 -0400 (Sun, 09 Jun 2024) EllapsedTime: 27.3 seconds RetCode: 0 Status: OK