Package: gypsum Version: 1.0.1 Command: chmod a+r gypsum -R && F:\biocbuild\bbs-3.19-bioc\R\bin\R.exe CMD build --keep-empty-dirs --no-resave-data gypsum StartedAt: 2024-06-26 19:24:53 -0400 (Wed, 26 Jun 2024) EndedAt: 2024-06-26 19:25:14 -0400 (Wed, 26 Jun 2024) EllapsedTime: 20.6 seconds RetCode: 0 Status: OK PackageFile: gypsum_1.0.1.tar.gz PackageFileSize: 268.2 KiB