Package: gypsum Version: 1.0.1 Command: rm -rf gypsum.buildbin-libdir && mkdir gypsum.buildbin-libdir && E:\biocbuild\bbs-3.19-bioc\R\bin\R.exe CMD INSTALL --build --library=gypsum.buildbin-libdir gypsum_1.0.1.tar.gz StartedAt: 2024-10-17 07:56:14 -0400 (Thu, 17 Oct 2024) EndedAt: 2024-10-17 07:56:33 -0400 (Thu, 17 Oct 2024) EllapsedTime: 18.9 seconds RetCode: 0 Status: OK PackageFile: gypsum_1.0.1.zip PackageFileSize: 405 KiB