Package: gypsum Version: 1.0.1 Command: chmod a+r gypsum -R && E:\biocbuild\bbs-3.19-bioc\R\bin\R.exe CMD build --keep-empty-dirs --no-resave-data gypsum StartedAt: 2024-10-16 19:38:22 -0400 (Wed, 16 Oct 2024) EndedAt: 2024-10-16 19:38:40 -0400 (Wed, 16 Oct 2024) EllapsedTime: 18.0 seconds RetCode: 0 Status: OK PackageFile: gypsum_1.0.1.tar.gz PackageFileSize: 268.2 KiB