Package: gypsum Version: 1.0.1 Command: E:\biocbuild\bbs-3.19-bioc\R\bin\R.exe CMD INSTALL gypsum StartedAt: 2024-10-16 16:07:14 -0400 (Wed, 16 Oct 2024) EndedAt: 2024-10-16 16:07:30 -0400 (Wed, 16 Oct 2024) EllapsedTime: 15.3 seconds RetCode: 0 Status: OK