Package: hapFabia Version: 1.46.0 Command: rm -rf hapFabia.buildbin-libdir && mkdir hapFabia.buildbin-libdir && /Users/biocbuild/BBS/utils/build-universal.sh hapFabia_1.46.0.tar.gz /Library/Frameworks/R.framework/Resources/bin/R hapFabia.buildbin-libdir StartedAt: 2024-10-17 16:20:10 -0400 (Thu, 17 Oct 2024) EndedAt: 2024-10-17 16:20:42 -0400 (Thu, 17 Oct 2024) EllapsedTime: 31.6 seconds RetCode: 0 Status: OK PackageFile: hapFabia_1.46.0.tgz PackageFileSize: 1.776 MiB