Package: hapFabia Version: 1.46.0 Command: /Library/Frameworks/R.framework/Resources/bin/R CMD build --keep-empty-dirs --no-resave-data hapFabia StartedAt: 2024-10-16 19:54:02 -0400 (Wed, 16 Oct 2024) EndedAt: 2024-10-16 19:55:07 -0400 (Wed, 16 Oct 2024) EllapsedTime: 65.3 seconds RetCode: 0 Status: OK PackageFile: hapFabia_1.46.0.tar.gz PackageFileSize: 1.623 MiB