Package: hapFabia Version: 1.46.0 Command: /Library/Frameworks/R.framework/Resources/bin/R CMD check --install=check:hapFabia.install-out.txt --library=/Library/Frameworks/R.framework/Resources/library --no-vignettes --timings hapFabia_1.46.0.tar.gz StartedAt: 2024-10-17 06:31:30 -0400 (Thu, 17 Oct 2024) EndedAt: 2024-10-17 06:33:39 -0400 (Thu, 17 Oct 2024) EllapsedTime: 129.4 seconds RetCode: 0 Status: WARNINGS CheckDir: hapFabia.Rcheck Warnings: 1