Package: hca Version: 1.12.0 Maintainer: Martin Morgan MaintainerEmail: martin.morgan at roswellpark.org git_url: https://git.bioconductor.org/packages/hca git_branch: RELEASE_3_19 git_last_commit: ae79b62 git_last_commit_date: 2024-04-30 11:31:33 -0400 (Tue, 30 Apr 2024)