Package: hca Version: 1.12.0 Command: rm -rf hca.buildbin-libdir && mkdir hca.buildbin-libdir && /Users/biocbuild/BBS/utils/build-universal.sh hca_1.12.0.tar.gz /Library/Frameworks/R.framework/Resources/bin/R hca.buildbin-libdir StartedAt: 2024-10-18 18:53:21 -0400 (Fri, 18 Oct 2024) EndedAt: 2024-10-18 18:53:32 -0400 (Fri, 18 Oct 2024) EllapsedTime: 11.4 seconds RetCode: 0 Status: OK PackageFile: hca_1.12.0.tgz PackageFileSize: 591.4 KiB