Package: hca Version: 1.12.0 Command: /Library/Frameworks/R.framework/Resources/bin/R CMD check --install=check:hca.install-out.txt --library=/Library/Frameworks/R.framework/Resources/library --no-vignettes --timings hca_1.12.0.tar.gz StartedAt: 2024-10-18 00:19:23 -0400 (Fri, 18 Oct 2024) EndedAt: 2024-10-18 00:22:32 -0400 (Fri, 18 Oct 2024) EllapsedTime: 188.7 seconds RetCode: 0 Status: OK CheckDir: hca.Rcheck Warnings: 0