Package: hca Version: 1.12.0 Command: /Library/Frameworks/R.framework/Resources/bin/R CMD INSTALL hca StartedAt: 2024-10-16 16:01:33 -0400 (Wed, 16 Oct 2024) EndedAt: 2024-10-16 16:01:49 -0400 (Wed, 16 Oct 2024) EllapsedTime: 15.9 seconds RetCode: 0 Status: OK