Package: hca Version: 1.12.0 Command: rm -rf hca.buildbin-libdir && mkdir hca.buildbin-libdir && E:\biocbuild\bbs-3.19-bioc\R\bin\R.exe CMD INSTALL --build --library=hca.buildbin-libdir hca_1.12.0.tar.gz StartedAt: 2024-10-17 07:56:27 -0400 (Thu, 17 Oct 2024) EndedAt: 2024-10-17 07:56:44 -0400 (Thu, 17 Oct 2024) EllapsedTime: 16.4 seconds RetCode: 0 Status: OK PackageFile: hca_1.12.0.zip PackageFileSize: 599.3 KiB