Package: hca Version: 1.12.0 Command: chmod a+r hca -R && E:\biocbuild\bbs-3.19-bioc\R\bin\R.exe CMD build --keep-empty-dirs --no-resave-data hca StartedAt: 2024-10-16 19:39:27 -0400 (Wed, 16 Oct 2024) EndedAt: 2024-10-16 19:42:23 -0400 (Wed, 16 Oct 2024) EllapsedTime: 176.1 seconds RetCode: 0 Status: OK PackageFile: hca_1.12.0.tar.gz PackageFileSize: 489.2 KiB