Package: hca Version: 1.12.0 Command: E:\biocbuild\bbs-3.19-bioc\R\bin\R.exe CMD INSTALL hca StartedAt: 2024-10-16 16:44:49 -0400 (Wed, 16 Oct 2024) EndedAt: 2024-10-16 16:45:09 -0400 (Wed, 16 Oct 2024) EllapsedTime: 19.6 seconds RetCode: 0 Status: OK