Package: hiReadsProcessor Version: 1.40.0 Command: /home/biocbuild/R/R-beta-2024-04-15_r86425/bin/R CMD INSTALL hiReadsProcessor StartedAt: 2024-05-08 20:26:53 -0000 (Wed, 08 May 2024) EndedAt: 2024-05-08 20:27:46 -0000 (Wed, 08 May 2024) EllapsedTime: 52.8 seconds RetCode: 0 Status: OK