Package: hiReadsProcessor Version: 1.40.0 Command: rm -rf hiReadsProcessor.buildbin-libdir && mkdir hiReadsProcessor.buildbin-libdir && /Users/biocbuild/BBS/utils/build-universal.sh hiReadsProcessor_1.40.0.tar.gz /Library/Frameworks/R.framework/Resources/bin/R hiReadsProcessor.buildbin-libdir StartedAt: 2024-10-17 16:21:52 -0400 (Thu, 17 Oct 2024) EndedAt: 2024-10-17 16:23:27 -0400 (Thu, 17 Oct 2024) EllapsedTime: 95.3 seconds RetCode: 0 Status: OK PackageFile: hiReadsProcessor_1.40.0.tgz PackageFileSize: 3 MiB