Package: hierinf Version: 1.22.0 Command: rm -rf hierinf.buildbin-libdir && mkdir hierinf.buildbin-libdir && /Users/biocbuild/BBS/utils/build-universal.sh hierinf_1.22.0.tar.gz /Library/Frameworks/R.framework/Resources/bin/R hierinf.buildbin-libdir StartedAt: 2024-10-18 18:55:58 -0400 (Fri, 18 Oct 2024) EndedAt: 2024-10-18 18:56:04 -0400 (Fri, 18 Oct 2024) EllapsedTime: 5.6 seconds RetCode: 0 Status: OK PackageFile: hierinf_1.22.0.tgz PackageFileSize: 490.9 KiB