Package: hierinf Version: 1.22.0 Command: rm -rf hierinf.buildbin-libdir && mkdir hierinf.buildbin-libdir && E:\biocbuild\bbs-3.19-bioc\R\bin\R.exe CMD INSTALL --build --library=hierinf.buildbin-libdir hierinf_1.22.0.tar.gz StartedAt: 2024-10-17 07:57:24 -0400 (Thu, 17 Oct 2024) EndedAt: 2024-10-17 07:57:32 -0400 (Thu, 17 Oct 2024) EllapsedTime: 7.7 seconds RetCode: 0 Status: OK PackageFile: hierinf_1.22.0.zip PackageFileSize: 502 KiB