Package: hmdbQuery Version: 1.24.0 Command: /Library/Frameworks/R.framework/Resources/bin/R CMD check --install=check:hmdbQuery.install-out.txt --library=/Library/Frameworks/R.framework/Resources/library --no-vignettes --timings hmdbQuery_1.24.0.tar.gz StartedAt: 2024-10-18 00:43:32 -0400 (Fri, 18 Oct 2024) EndedAt: 2024-10-18 00:44:39 -0400 (Fri, 18 Oct 2024) EllapsedTime: 67.5 seconds RetCode: 0 Status: OK CheckDir: hmdbQuery.Rcheck Warnings: 0