Package: hmdbQuery Version: 1.24.0 Command: /Library/Frameworks/R.framework/Resources/bin/R CMD check --install=check:hmdbQuery.install-out.txt --library=/Library/Frameworks/R.framework/Resources/library --no-vignettes --timings hmdbQuery_1.24.0.tar.gz StartedAt: 2024-06-09 20:55:10 -0400 (Sun, 09 Jun 2024) EndedAt: 2024-06-09 20:56:22 -0400 (Sun, 09 Jun 2024) EllapsedTime: 71.8 seconds RetCode: 0 Status: OK CheckDir: hmdbQuery.Rcheck Warnings: 0