Package: hmdbQuery Version: 1.24.0 Command: rm -rf hmdbQuery.buildbin-libdir && mkdir hmdbQuery.buildbin-libdir && /Users/biocbuild/BBS/utils/build-universal.sh hmdbQuery_1.24.0.tar.gz /Library/Frameworks/R.framework/Resources/bin/R hmdbQuery.buildbin-libdir StartedAt: 2024-10-17 16:21:57 -0400 (Thu, 17 Oct 2024) EndedAt: 2024-10-17 16:22:12 -0400 (Thu, 17 Oct 2024) EllapsedTime: 14.9 seconds RetCode: 0 Status: OK PackageFile: hmdbQuery_1.24.0.tgz PackageFileSize: 884 KiB