Package: hmdbQuery Version: 1.24.0 Command: /home/biocbuild/bbs-3.19-bioc/R/bin/R CMD check --install=check:hmdbQuery.install-out.txt --library=/home/biocbuild/bbs-3.19-bioc/R/site-library --timings hmdbQuery_1.24.0.tar.gz StartedAt: 2024-10-17 01:26:08 -0400 (Thu, 17 Oct 2024) EndedAt: 2024-10-17 01:27:21 -0400 (Thu, 17 Oct 2024) EllapsedTime: 73.1 seconds RetCode: 0 Status: OK CheckDir: hmdbQuery.Rcheck Warnings: 0