Package: hmdbQuery Version: 1.24.0 Command: rm -rf hmdbQuery.buildbin-libdir && mkdir hmdbQuery.buildbin-libdir && F:\biocbuild\bbs-3.19-bioc\R\bin\R.exe CMD INSTALL --build --library=hmdbQuery.buildbin-libdir hmdbQuery_1.24.0.tar.gz StartedAt: 2024-06-27 08:21:23 -0400 (Thu, 27 Jun 2024) EndedAt: 2024-06-27 08:21:34 -0400 (Thu, 27 Jun 2024) EllapsedTime: 11.1 seconds RetCode: 0 Status: OK PackageFile: hmdbQuery_1.24.0.zip PackageFileSize: 887.5 KiB