Package: hopach Version: 2.64.0 Command: /Library/Frameworks/R.framework/Resources/bin/R CMD build --keep-empty-dirs --no-resave-data hopach StartedAt: 2024-10-16 20:03:33 -0400 (Wed, 16 Oct 2024) EndedAt: 2024-10-16 20:04:52 -0400 (Wed, 16 Oct 2024) EllapsedTime: 79.5 seconds RetCode: 0 Status: OK PackageFile: hopach_2.64.0.tar.gz PackageFileSize: 1.293 MiB