Package: hopach Version: 2.64.0 Command: rm -rf hopach.buildbin-libdir && mkdir hopach.buildbin-libdir && E:\biocbuild\bbs-3.19-bioc\R\bin\R.exe CMD INSTALL --build --library=hopach.buildbin-libdir hopach_2.64.0.tar.gz StartedAt: 2024-10-17 07:57:53 -0400 (Thu, 17 Oct 2024) EndedAt: 2024-10-17 07:58:23 -0400 (Thu, 17 Oct 2024) EllapsedTime: 30.2 seconds RetCode: 0 Status: OK PackageFile: hopach_2.64.0.zip PackageFileSize: 976.3 KiB