Package: hummingbird Version: 1.14.0 Command: rm -rf hummingbird.buildbin-libdir && mkdir hummingbird.buildbin-libdir && /Users/biocbuild/BBS/utils/build-universal.sh hummingbird_1.14.0.tar.gz /Library/Frameworks/R.framework/Resources/bin/R hummingbird.buildbin-libdir StartedAt: 2024-06-11 11:37:42 -0400 (Tue, 11 Jun 2024) EndedAt: 2024-06-11 11:38:35 -0400 (Tue, 11 Jun 2024) EllapsedTime: 53.0 seconds RetCode: 0 Status: OK PackageFile: hummingbird_1.14.0.tgz PackageFileSize: 475.8 KiB