Package: hummingbird Version: 1.14.0 Command: /home/biocbuild/R/R-beta-2024-04-15_r86425/bin/R CMD build --keep-empty-dirs --no-resave-data hummingbird StartedAt: 2024-05-09 01:00:46 -0000 (Thu, 09 May 2024) EndedAt: 2024-05-09 01:01:35 -0000 (Thu, 09 May 2024) EllapsedTime: 49.1 seconds RetCode: 0 Status: OK PackageFile: hummingbird_1.14.0.tar.gz PackageFileSize: 442.4 KiB