Package: hummingbird Version: 1.14.0 Command: rm -rf hummingbird.buildbin-libdir && mkdir hummingbird.buildbin-libdir && F:\biocbuild\bbs-3.19-bioc\R\bin\R.exe CMD INSTALL --build --library=hummingbird.buildbin-libdir hummingbird_1.14.0.tar.gz StartedAt: 2024-06-27 08:21:43 -0400 (Thu, 27 Jun 2024) EndedAt: 2024-06-27 08:22:32 -0400 (Thu, 27 Jun 2024) EllapsedTime: 48.8 seconds RetCode: 0 Status: OK PackageFile: hummingbird_1.14.0.zip PackageFileSize: 726.6 KiB