Package: hummingbird Version: 1.14.0 Command: chmod a+r hummingbird -R && F:\biocbuild\bbs-3.19-bioc\R\bin\R.exe CMD build --keep-empty-dirs --no-resave-data hummingbird StartedAt: 2024-06-26 19:30:38 -0400 (Wed, 26 Jun 2024) EndedAt: 2024-06-26 19:31:23 -0400 (Wed, 26 Jun 2024) EllapsedTime: 45.5 seconds RetCode: 0 Status: OK PackageFile: hummingbird_1.14.0.tar.gz PackageFileSize: 405.1 KiB