Package: hummingbird Version: 1.14.0 Command: E:\biocbuild\bbs-3.19-bioc\R\bin\R.exe CMD check --no-multiarch --install=check:hummingbird.install-out.txt --library=E:\biocbuild\bbs-3.19-bioc\R\library --no-vignettes --timings hummingbird_1.14.0.tar.gz StartedAt: 2024-10-17 02:24:20 -0400 (Thu, 17 Oct 2024) EndedAt: 2024-10-17 02:27:28 -0400 (Thu, 17 Oct 2024) EllapsedTime: 188.1 seconds RetCode: 0 Status: OK CheckDir: hummingbird.Rcheck Warnings: 0