Package: hypeR Version: 2.2.0 Command: rm -rf hypeR.buildbin-libdir && mkdir hypeR.buildbin-libdir && /Users/biocbuild/BBS/utils/build-universal.sh hypeR_2.2.0.tar.gz /Library/Frameworks/R.framework/Resources/bin/R hypeR.buildbin-libdir StartedAt: 2024-10-18 18:57:25 -0400 (Fri, 18 Oct 2024) EndedAt: 2024-10-18 18:57:37 -0400 (Fri, 18 Oct 2024) EllapsedTime: 12.4 seconds RetCode: 0 Status: OK PackageFile: hypeR_2.2.0.tgz PackageFileSize: 595.3 KiB